BEGIN:VCALENDAR
VERSION:2.0
PRODID:SchoolNow
CALSCALE:GREGORIAN
BEGIN:VEVENT
UID:399759c2-3c11-11f1-85cc-0a58a9feac02
DTSTAMP:20260424T121509Z
SUMMARY:Arabians vs Navarro High School Navarro Lady Panther Softball - Sof
 tball (F) - Varsity
LOCATION:Away - SAISD Sports Complex
URL;VALUE=URI:https://www.devineisd.org/calendar/9005195/arabians-vs-navarr
 o-high-school-navarro-lady-panther-softball-softball-f-varsity
DTSTART:20260425T200000Z
DTEND:20260425T230000Z
END:VEVENT
END:VCALENDAR
