BEGIN:VCALENDAR
VERSION:2.0
PRODID:SchoolNow
CALSCALE:GREGORIAN
BEGIN:VEVENT
UID:3990f320-3c11-11f1-ada0-0a58a9feac02
DTSTAMP:20260424T121509Z
SUMMARY:Arabians vs Navarro High School Navarro Lady Panther Softball - Sof
 tball (F) - Varsity
LOCATION:Home -
URL;VALUE=URI:https://www.devineisd.org/calendar/9005193/arabians-vs-navarr
 o-high-school-navarro-lady-panther-softball-softball-f-varsity
DTSTART:20260424T000000Z
DTEND:20260424T030000Z
END:VEVENT
END:VCALENDAR
