BEGIN:VCALENDAR
VERSION:2.0
PRODID:SchoolNow
CALSCALE:GREGORIAN
BEGIN:VEVENT
UID:c0cc2728-377b-11f1-a3d5-0a58a9feac02
DTSTAMP:20260425T094507Z
SUMMARY:Ciavarra Elementary:  Book Fair -  Friends & Family Night
URL;VALUE=URI:https://www.devineisd.org/calendar/8991641/ciavarra-elementar
 y-book-fair-friends-family-night
DTSTART:20260423T210000Z
DTEND:20260424T000000Z
END:VEVENT
END:VCALENDAR
