BEGIN:VCALENDAR
VERSION:2.0
PRODID:SchoolNow
CALSCALE:GREGORIAN
BEGIN:VEVENT
UID:c0cc1fda-377b-11f1-9ea4-0a58a9feac02
DTSTAMP:20260425T094507Z
SUMMARY:D.H.S. - Senior Class '26 - Ice Cream Social
LOCATION:Methodist Church - Devine\, TX
URL;VALUE=URI:https://www.devineisd.org/calendar/8991639/d-h-s-senior-class
 -26-ice-cream-social
DTSTART:20260413T210000Z
DTEND:20260413T230000Z
END:VEVENT
END:VCALENDAR
