BEGIN:VCALENDAR
VERSION:2.0
PRODID:SchoolNow
CALSCALE:GREGORIAN
BEGIN:VEVENT
UID:babc30d0-2c54-11f1-a525-0affe170b275
DTSTAMP:20260425T094507Z
SUMMARY:D.M.S. Tennis Pictures
LOCATION:D.M.S. Gym
URL;VALUE=URI:https://www.devineisd.org/calendar/8957866/d-m-s-tennis-pictu
 res
DTSTART;VALUE=DATE:20260407
DTEND;VALUE=DATE:20260408
END:VEVENT
END:VCALENDAR
