BEGIN:VCALENDAR
VERSION:2.0
PRODID:SchoolNow
CALSCALE:GREGORIAN
BEGIN:VEVENT
UID:62334fa2-2a38-11f1-ba79-0289c63e8045
DTSTAMP:20260425T155007Z
SUMMARY:D.H.S. - Cheer Tryouts
URL;VALUE=URI:https://www.devineisd.org/calendar/8951727/d-h-s-cheer-tryout
 s
DTSTART;VALUE=DATE:20260330
DTEND;VALUE=DATE:20260403
END:VEVENT
END:VCALENDAR
