BEGIN:VCALENDAR
VERSION:2.0
PRODID:SchoolNow
CALSCALE:GREGORIAN
BEGIN:VEVENT
UID:62027f1c-2a38-11f1-afc0-0289c63e8045
DTSTAMP:20260425T094507Z
SUMMARY:Tennis Courts Ribbon Cutting Ceremony
LOCATION:Devine Tennis Courts
URL;VALUE=URI:https://www.devineisd.org/calendar/8951726/tennis-courts-ribb
 on-cutting-ceremony
DTSTART:20260401T124500Z
DTEND:20260401T131500Z
END:VEVENT
END:VCALENDAR
