BEGIN:VCALENDAR
VERSION:2.0
PRODID:SchoolNow
CALSCALE:GREGORIAN
BEGIN:VEVENT
UID:bf47f180-230c-11f1-ab45-0a58a9feac02
DTSTAMP:20260424T123007Z
SUMMARY:STAAR Testing - D.H.S: Biology & U.S. History EOC Makeup Day
URL;VALUE=URI:https://www.devineisd.org/calendar/8928265/staar-testing-d-h-
 s-biology-u-s-history-eoc-makeup-day
DTSTART;VALUE=DATE:20260424
DTEND;VALUE=DATE:20260425
END:VEVENT
END:VCALENDAR
