BEGIN:VCALENDAR
VERSION:2.0
PRODID:SchoolNow
CALSCALE:GREGORIAN
BEGIN:VEVENT
UID:bf47f004-230c-11f1-8fc4-0a58a9feac02
DTSTAMP:20260425T094507Z
SUMMARY:STAAR Testing - D.H.S: U.S. History EOC
URL;VALUE=URI:https://www.devineisd.org/calendar/8928264/staar-testing-d-h-
 s-u-s-history-eoc
DTSTART;VALUE=DATE:20260416
DTEND;VALUE=DATE:20260417
END:VEVENT
END:VCALENDAR
