BEGIN:VCALENDAR
VERSION:2.0
PRODID:SchoolNow
CALSCALE:GREGORIAN
BEGIN:VEVENT
UID:bf47ebfe-230c-11f1-98e4-0a58a9feac02
DTSTAMP:20260425T094507Z
SUMMARY:STAAR Testing - D.H.S: English EOC Makeup Day
URL;VALUE=URI:https://www.devineisd.org/calendar/8928263/staar-testing-d-h-
 s-english-eoc-makeup-day
DTSTART;VALUE=DATE:20260417
DTEND;VALUE=DATE:20260418
END:VEVENT
END:VCALENDAR
