BEGIN:VCALENDAR
VERSION:2.0
PRODID:SchoolNow
CALSCALE:GREGORIAN
BEGIN:VEVENT
UID:732f3888-f7d0-11f0-a224-028f6ff41f89
DTSTAMP:20260424T121509Z
SUMMARY:Colts & Fillys vs Multiple - Track & Field (C) - Middle
LOCATION:Away - Uvalde Honey Bowl Stadium
URL;VALUE=URI:https://www.devineisd.org/calendar/8839426/colts-fillys-vs-mu
 ltiple-track-field-c-middle
DTSTART:20260402T210000Z
DTEND:20260403T030000Z
END:VEVENT
END:VCALENDAR
